BEGIN:VCALENDAR
VERSION:2.0
PRODID:-//AICI - ECPv6.9.0//NONSGML v1.0//EN
CALSCALE:GREGORIAN
METHOD:PUBLISH
X-ORIGINAL-URL:https://www.aici.it
X-WR-CALDESC:Eventi per AICI
REFRESH-INTERVAL;VALUE=DURATION:PT1H
X-Robots-Tag:noindex
X-PUBLISHED-TTL:PT1H
BEGIN:VTIMEZONE
TZID:Europe/Rome
BEGIN:DAYLIGHT
TZOFFSETFROM:+0100
TZOFFSETTO:+0200
TZNAME:CEST
DTSTART:20260329T010000
END:DAYLIGHT
BEGIN:STANDARD
TZOFFSETFROM:+0200
TZOFFSETTO:+0100
TZNAME:CET
DTSTART:20261025T010000
END:STANDARD
END:VTIMEZONE
BEGIN:VEVENT
DTSTART;TZID=Europe/Rome:20260305T173000
DTEND;TZID=Europe/Rome:20260305T183000
DTSTAMP:20260419T082426
CREATED:20260302T111833Z
LAST-MODIFIED:20260302T111833Z
UID:37014-1772731800-1772735400@www.aici.it
SUMMARY:Presentazione "Tina Anselmi. La donna delle riforme sociali (Prometheus\, Milano 2025)" - 5 marzo
DESCRIPTION:In occasione dell’uscita del volume di Alba Lazzaretto\, Tina Anselmi. La donna delle riforme sociali (Prometheus\, Milano 2025)\, l’Isacem è lieto di invitarvi alla presentazione online\, che si terrà giovedì 5 marzo alle ore 17.30 e sarà trasmessa in diretta streaming sul canale YouTube dell’Istituto.  \nIntroduce Marta Margotti (Università di Torino\, presidente del Consiglio scientifico dell’Isacem). \nInsieme all’autrice del volume Alba Lazzaretto (Università di Padova) interviene Daria Gabusi (Università di Verona).
URL:https://www.aici.it/event/presentazione-tina-anselmi-la-donna-delle-riforme-sociali-prometheus-milano-2025-5-marzo/
END:VEVENT
END:VCALENDAR