BEGIN:VCALENDAR
VERSION:2.0
PRODID:-//AICI - ECPv6.9.0//NONSGML v1.0//EN
CALSCALE:GREGORIAN
METHOD:PUBLISH
X-ORIGINAL-URL:https://www.aici.it
X-WR-CALDESC:Eventi per AICI
REFRESH-INTERVAL;VALUE=DURATION:PT1H
X-Robots-Tag:noindex
X-PUBLISHED-TTL:PT1H
BEGIN:VTIMEZONE
TZID:Europe/Rome
BEGIN:DAYLIGHT
TZOFFSETFROM:+0100
TZOFFSETTO:+0200
TZNAME:CEST
DTSTART:20260329T010000
END:DAYLIGHT
BEGIN:STANDARD
TZOFFSETFROM:+0200
TZOFFSETTO:+0100
TZNAME:CET
DTSTART:20261025T010000
END:STANDARD
END:VTIMEZONE
BEGIN:VEVENT
DTSTART;TZID=Europe/Rome:20260309T170000
DTEND;TZID=Europe/Rome:20260309T180000
DTSTAMP:20260420T105609
CREATED:20260302T111845Z
LAST-MODIFIED:20260302T111845Z
UID:37015-1773075600-1773079200@www.aici.it
SUMMARY:Lunedì 9 marzo 2026 (Spazio QCR) – Firenze: Riflessioni e Prospettive
DESCRIPTION:Firenze: Riflessioni e Prospettive \nA due anni dal Quaderno del Circolo Rosselli n. 2/2024 “Firenze bella e possibile” \nUn confronto aperto tra alcune riviste fiorentine per analizzare l’evoluzione della città e le sfide del prossimo futuro. \nLunedì 9 marzo 2026\, ore 17 \nIntervengono: \n\nSandro Rogari – Fondazione Nuova Antologia\nSeverino Saccardi – Testimonianze\nAlberto Di Cintio – Bioarchitettura Abitare la Terra\nMichele Morrocchi – Cultura Commestibile\nValdo Spini – Quaderni del Circolo Rosselli\n\nModera: Olga Mugnaini\, Giornalista de La Nazione \n 
URL:https://www.aici.it/event/lunedi-9-marzo-2026-spazio-qcr-firenze-riflessioni-e-prospettive/
END:VEVENT
END:VCALENDAR