BEGIN:VCALENDAR
VERSION:2.0
PRODID:-//AICI - ECPv6.9.0//NONSGML v1.0//EN
CALSCALE:GREGORIAN
METHOD:PUBLISH
X-WR-CALNAME:AICI
X-ORIGINAL-URL:https://www.aici.it
X-WR-CALDESC:Eventi per AICI
REFRESH-INTERVAL;VALUE=DURATION:PT1H
X-Robots-Tag:noindex
X-PUBLISHED-TTL:PT1H
BEGIN:VTIMEZONE
TZID:Europe/Rome
BEGIN:DAYLIGHT
TZOFFSETFROM:+0100
TZOFFSETTO:+0200
TZNAME:CEST
DTSTART:20260329T010000
END:DAYLIGHT
BEGIN:STANDARD
TZOFFSETFROM:+0200
TZOFFSETTO:+0100
TZNAME:CET
DTSTART:20261025T010000
END:STANDARD
END:VTIMEZONE
BEGIN:VEVENT
DTSTART;TZID=Europe/Rome:20260313T180000
DTEND;TZID=Europe/Rome:20260313T183000
DTSTAMP:20260419T214840
CREATED:20260310T104836Z
LAST-MODIFIED:20260310T104836Z
UID:37046-1773424800-1773426600@www.aici.it
SUMMARY:“Giorgia la figlia del popolo. Perché Meloni piace agli italiani” Italo Bocchino a Bari presenta il suo libro con la Fondazione Tatarella
DESCRIPTION:Per la rassegna “Incontri d’Autore” la Fondazione Tatarella organizza la presentazione del libro “Giorgia\, la figlia del popolo. Perché Meloni piace agli italiani” (Solferino) di Italo Bocchino\, direttore editoriale del Secolo d’Italia. \nL’appuntamento è in programma venerdì 13 marzo 2026 alle ore 18.00\, a Bari\, nella suggestiva cornice di Villa de Grecis. \nCon l’autore all’incontro interverranno Fabrizio Tatarella\, vicepresidente della Fondazione Tatarella\, Vito Leccese\, Sindaco di Bari\, Paolo Pagliaro\, Presidente del Gruppo di Fratelli d’Italia alla Regione Puglia e Francesco Ventola\, parlamentare europeo del Gruppo Fdi/ECR. \nA moderare il dibattito sarà Domenico Castellaneta\, direttore di Telenorba. \nIl libro analizza il fenomeno politico rappresentato da Giorgia Meloni\, la cui leadership – come evidenziato dai risultati elettorali e dai sondaggi – incontra un ampio consenso tra gli italiani. Nel volume\, Bocchino descrive una leader percepita come vicina al popolo\, ai suoi problemi e alle sue aspirazioni\, capace di incarnare una storia di affermazione personale costruita attraverso determinazione e impegno. \nIl saggio racconta anche il percorso politico che ha portato Meloni alla guida del governo e la crescita di una classe dirigente che l’ha accompagnata negli anni\, un gruppo coeso nato da una lunga esperienza politica condivisa. \nArricchito da aneddoti\, retroscena e interviste esclusive ai protagonisti più vicini alla presidente del Consiglio – tra cui la sorella Arianna Meloni e il sottosegretario Giovanbattista Fazzolari – il volume offre una ricostruzione dall’interno del mondo politico e culturale che ha dato vita all’attuale destra di governo. \nIl libro propone così una lettura del successo politico di Giorgia Meloni e del cosiddetto “melonismo”\, fenomeno che negli ultimi anni ha avuto un impatto significativo nel panorama politico italiano ed europeo. \n 
URL:https://www.aici.it/event/giorgia-la-figlia-del-popolo-perche-meloni-piace-agli-italiani-italo-bocchino-a-bari-presenta-il-suo-libro-con-la-fondazione-tatarella/
END:VEVENT
END:VCALENDAR