BEGIN:VCALENDAR
VERSION:2.0
PRODID:-//AICI - ECPv6.9.0//NONSGML v1.0//EN
CALSCALE:GREGORIAN
METHOD:PUBLISH
X-ORIGINAL-URL:https://www.aici.it
X-WR-CALDESC:Eventi per AICI
REFRESH-INTERVAL;VALUE=DURATION:PT1H
X-Robots-Tag:noindex
X-PUBLISHED-TTL:PT1H
BEGIN:VTIMEZONE
TZID:Europe/Rome
BEGIN:DAYLIGHT
TZOFFSETFROM:+0100
TZOFFSETTO:+0200
TZNAME:CEST
DTSTART:20260329T010000
END:DAYLIGHT
BEGIN:STANDARD
TZOFFSETFROM:+0200
TZOFFSETTO:+0100
TZNAME:CET
DTSTART:20261025T010000
END:STANDARD
END:VTIMEZONE
BEGIN:VEVENT
DTSTART;TZID=Europe/Rome:20260314T080000
DTEND;TZID=Europe/Rome:20260314T170000
DTSTAMP:20260420T105611
CREATED:20260313T072419Z
LAST-MODIFIED:20260316T072602Z
UID:37080-1773475200-1773507600@www.aici.it
SUMMARY:L’albero del riccio di Antonio Gramsci\, libro tattile - 14 marzo
DESCRIPTION:14 marzo – L’albero del riccio di Antonio Gramsci\, libro tattile \nL’albero del riccio fu una invenzione editoriale di Giuseppe Ravegnani che nel 1948 curò un libro illustrato tratto dalle Lettere dal carcere di Antonio Gramsci che ha avuto una ininterrotta fortuna. Questa edizione\, con inserti in Braille\, è stata realizzata a mano dai detenuti della Casa di Reclusione di Turi che hanno partecipato al laboratorio del progetto «conTatto»\, ideato e coordinato dalla Cooperativa Sociale Zorba e dalla casa editrice La meridiana. \nPartecipano: Marco Delogu\, Francesco Giasi\, Elvira Zaccagnino\, Anna Maria Ricciotti\, Fabio Fornasari\, Chiara Meta\, Piero Rossi e Valentina Calderone. \nMaggiori informazioni al seguente link: https://fondazionegramsci.org/convegni-e-seminari/lalbero-del-riccio
URL:https://www.aici.it/event/lalbero-del-riccio-di-antonio-gramsci-libro-tattile-14-marzo/
END:VEVENT
END:VCALENDAR