BEGIN:VCALENDAR
VERSION:2.0
PRODID:-//AICI - ECPv6.9.0//NONSGML v1.0//EN
CALSCALE:GREGORIAN
METHOD:PUBLISH
X-ORIGINAL-URL:https://www.aici.it
X-WR-CALDESC:Eventi per AICI
REFRESH-INTERVAL;VALUE=DURATION:PT1H
X-Robots-Tag:noindex
X-PUBLISHED-TTL:PT1H
BEGIN:VTIMEZONE
TZID:Europe/Rome
BEGIN:DAYLIGHT
TZOFFSETFROM:+0100
TZOFFSETTO:+0200
TZNAME:CEST
DTSTART:20260329T010000
END:DAYLIGHT
BEGIN:STANDARD
TZOFFSETFROM:+0200
TZOFFSETTO:+0100
TZNAME:CET
DTSTART:20261025T010000
END:STANDARD
END:VTIMEZONE
BEGIN:VEVENT
DTSTART;TZID=Europe/Rome:20260324T113000
DTEND;TZID=Europe/Rome:20260324T170000
DTSTAMP:20260420T105456
CREATED:20260324T115844Z
LAST-MODIFIED:20260324T115844Z
UID:37148-1774351800-1774371600@www.aici.it
SUMMARY:Omaggio a Donato Bendicenti e alle vittime delle Fosse Ardeatine - 24 marzo\, Fondazione Giacomo Mancini
DESCRIPTION:La Fondazione Giacomo Mancini\, in occasione dell’anniversario dell’eccidio delle Fosse Ardeatine — in cui furono uccisi 335 civili e militari italiani\, tra prigionieri politici\, ebrei e detenuti comuni\, trucidati a Roma il 24 marzo 1944 dalle truppe di occupazione naziste come rappresaglia per l’attentato partigiano di via Rasella — ha organizzato un momento di raccoglimento dinanzi alla targa che ricorda Donato Bendicenti\, posta nell’omonima via della città di Cosenza. \n Donato Bendicenti\, nato a Rogliano il 18 ottobre 1907\, fu tra le vittime dell’eccidio delle Fosse Ardeatine. Avvocato\, insignito della Medaglia d’argento al valor militare alla memoria\, partecipò alla Resistenza romana subito dopo l’armistizio\, aderendo al Fronte militare clandestino. Membro del Comitato forense di agitazione\, divenne partigiano nella Banda del quartiere Trionfale. \n Arrestato il 3 marzo 1944\, come ricorda la motivazione della decorazione alla memoria\, “…lungamente interrogato\, nulla rivelava. Sacrificato alla rappresaglia tedesca\, cadeva per gli ideali di libertà della Patria che aveva sempre nobilmente servito”. \n L’omaggio a Donato Bendicenti\, e con lui alle 335 vittime della ferocia nazista delle Fosse Ardeatine\, si terrà martedì 24 marzo alle ore 11.30 in via Donato Bendicenti\, a Cosenza. \n 
URL:https://www.aici.it/event/omaggio-a-donato-bendicenti-e-alle-vittime-delle-fosse-ardeatine-24-marzo-fondazione-giacomo-mancini/
END:VEVENT
BEGIN:VEVENT
DTSTART;TZID=Europe/Rome:20260324T170000
DTEND;TZID=Europe/Rome:20260324T180000
DTSTAMP:20260420T105456
CREATED:20260320T233121Z
LAST-MODIFIED:20260320T233121Z
UID:37124-1774371600-1774375200@www.aici.it
SUMMARY:24 marzo 2026 (Spazio QCR) | Secondo colloquio  Firenze: Riflessioni e Prospettive
DESCRIPTION:Martedì 24 marzo 2026\, ORE 17 \nFondazione Circolo Fratelli Rosselli – Via degli Alfani 101/rosso – Firenze \nSecondo colloquio \nFirenze: Riflessioni e Prospettive \nA due anni dal Quaderno del Circolo Rosselli n. 2/2024 “Firenze bella e possibile” ci incontriamo per un secondo colloquio di approfondimento: un laboratorio di idee tra riflessioni passate e nuove prospettive per il futuro della nostra città. \nIntervengono: \n\nSergio Givone\nMassimo Morisi\nAndrea Barducci\nRenzo Manetti\nMariella Zoppi\n\nCon Cosimo Guccione\, Presidente consiglio comunale di Firenze \n 
URL:https://www.aici.it/event/24-marzo-2026-spazio-qcr-secondo-colloquio-firenze-riflessioni-e-prospettive/
END:VEVENT
BEGIN:VEVENT
DTSTART;TZID=Europe/Rome:20260324T180000
DTEND;TZID=Europe/Rome:20260324T190000
DTSTAMP:20260420T105456
CREATED:20260320T233154Z
LAST-MODIFIED:20260320T233154Z
UID:37127-1774375200-1774378800@www.aici.it
SUMMARY:Inaugurazione della mostra "A schiena dritta – Tutelare il mestiere della libertà" - 24 marzo
DESCRIPTION:Si comunica che il giorno martedì 24 marzo 2026\, alle ore 18.00\, presso la sede INPGI\, in via Nizza 35\, Roma\, si terrà l’inaugurazione della mostra “A schiena dritta – Tutelare il mestiere della libertà”\,\nrealizzata in occasione dei 100 anni dell’Istituto Nazionale di Previdenza dei Giornalisti Italiani e presentata nella sede della Fondazione sul Giornalismo Italiano “Paolo Murialdi”. \nL’esposizione ripercorre un percorso attraverso immagini\, documenti e materiali storici dedicati alla storia della professione e al suo ruolo nella tutela della libertà e dei diritti democratici. \nSaremmo felici di averLa con noi per condividere questo momento di alto profilo culturale. \nPer esigenze organizzative\, si prega di dare conferma della partecipazione all’indirizzo email   centenario@inpgi.it entro e non oltre  il 16/03/2026. \n 
URL:https://www.aici.it/event/inaugurazione-della-mostra-a-schiena-dritta-tutelare-il-mestiere-della-liberta-24-marzo/
END:VEVENT
END:VCALENDAR