BEGIN:VCALENDAR
VERSION:2.0
PRODID:-//AICI - ECPv6.9.0//NONSGML v1.0//EN
CALSCALE:GREGORIAN
METHOD:PUBLISH
X-WR-CALNAME:AICI
X-ORIGINAL-URL:https://www.aici.it
X-WR-CALDESC:Eventi per AICI
REFRESH-INTERVAL;VALUE=DURATION:PT1H
X-Robots-Tag:noindex
X-PUBLISHED-TTL:PT1H
BEGIN:VTIMEZONE
TZID:Europe/Rome
BEGIN:DAYLIGHT
TZOFFSETFROM:+0100
TZOFFSETTO:+0200
TZNAME:CEST
DTSTART:20260329T010000
END:DAYLIGHT
BEGIN:STANDARD
TZOFFSETFROM:+0200
TZOFFSETTO:+0100
TZNAME:CET
DTSTART:20261025T010000
END:STANDARD
END:VTIMEZONE
BEGIN:VEVENT
DTSTART;TZID=Europe/Rome:20260328T210000
DTEND;TZID=Europe/Rome:20260328T223000
DTSTAMP:20260420T105405
CREATED:20260320T233213Z
LAST-MODIFIED:20260320T233213Z
UID:37126-1774731600-1774737000@www.aici.it
SUMMARY:"Romanzo di un'anamnesi"\, reading performativo a cura di Sara Parziani - 28 marzo
DESCRIPTION:Fondazione Marazza – Info & Eventi\n​\nSabato 28 marzo 2026 alle ore 21 presso Casa Curioni ad Invorio\, sarà in scena “Romanzo di un’anamnesi“\, reading performativo a cura di Sara Parziani\, attrice\, autrice ed educatrice di teatro sociale e di comunità. \nSara ha già avuto il piacere di incontrare alcuni studenti delle scuole secondarie di primo grado di Lesa e di Invorio per parlare di inclusione e questa è l’occasione anche per un pubblico adulto di riflettere su come alle volte le difficoltà siano un’opportunità per potersi esprimere liberamente.\nEvento organizzato dal Sistema Bibliotecario del Medio Novarese e dalla Fondazione Marazza\, in collaborazione con la Biblioteca di Invorio\, realizzato all’interno del progetto “LIBER* DI ESSERE: letture per i diritti e l’inclusione!“\, con il contributo del Ministero della cultura – Direzione generale Biblioteche e diritto d’autore – Fondo per la promozione della lettura\, della tutela e della valorizzazione del patrimonio librario 2025. \n 
URL:https://www.aici.it/event/romanzo-di-unanamnesi-reading-performativo-a-cura-di-sara-parziani-28-marzo/
END:VEVENT
END:VCALENDAR