BEGIN:VCALENDAR
VERSION:2.0
PRODID:-//AICI - ECPv6.9.0//NONSGML v1.0//EN
CALSCALE:GREGORIAN
METHOD:PUBLISH
X-ORIGINAL-URL:https://www.aici.it
X-WR-CALDESC:Eventi per AICI
REFRESH-INTERVAL;VALUE=DURATION:PT1H
X-Robots-Tag:noindex
X-PUBLISHED-TTL:PT1H
BEGIN:VTIMEZONE
TZID:Europe/Rome
BEGIN:DAYLIGHT
TZOFFSETFROM:+0100
TZOFFSETTO:+0200
TZNAME:CEST
DTSTART:20260329T010000
END:DAYLIGHT
BEGIN:STANDARD
TZOFFSETFROM:+0200
TZOFFSETTO:+0100
TZNAME:CET
DTSTART:20261025T010000
END:STANDARD
END:VTIMEZONE
BEGIN:VEVENT
DTSTART;TZID=Europe/Rome:20260417T110000
DTEND;TZID=Europe/Rome:20260417T170000
DTSTAMP:20260420T150448
CREATED:20260417T070042Z
LAST-MODIFIED:20260417T095142Z
UID:37304-1776423600-1776445200@www.aici.it
SUMMARY:Inaugurazione del 273° Anno Accademico dei Georgofili\, 17 aprile
DESCRIPTION:Venerdì 17 aprile 2026 alle ore 11.00\, nel Salone dei Cinquecento in Palazzo Vecchio a Firenze\, si svolgerà la cerimonia Inaugurale del 273° Anno Accademico dei Georgofili. \nDopo il saluto della Sindaca Sara Funaro e la relazione del Presidente Massimo Vincenzini\, la prolusione sarà tenuta da Valdo Spini\, Accademico Onorario e già Ministro dell’Ambiente\, sul tema: La questione ambientale. \nNel corso della cerimonia\, saranno consegnati i diplomi ai nuovi Accademici Onorari\, Emeriti\, Ordinari e Corrispondenti stranieri. Saranno inoltre consegnati il riconoscimento al “Merito Georgofilo”\, il “Premio Antico Fattore” e il “Premio Donato Matassino”. \nSarà possibile seguire la cerimonia in diretta streaming al link: https://youtube.com/live/pYUplpaRf1Q?feature=share \n 
URL:https://www.aici.it/event/inaugurazione-del-273-anno-accademico-dei-georgofili-17-aprile/
END:VEVENT
BEGIN:VEVENT
DTSTART;TZID=Europe/Rome:20260417T180000
DTEND;TZID=Europe/Rome:20260417T190000
DTSTAMP:20260420T150449
CREATED:20260417T095120Z
LAST-MODIFIED:20260417T095120Z
UID:37303-1776448800-1776452400@www.aici.it
SUMMARY:"I colori di Giambattista Pruzzo\, Mostra fotografica al Museo del ferro" - 17 aprile
DESCRIPTION:Il MUSIL – Museo dell’industria e del lavoro e il Museo Nazionale della Fotografia di Brescia organizzano la mostra “I colori di Giambattista Pruzzo“\, a cura di Luisa Bondoni. \nInaugurazione Venerdì 17 Aprile 2026 alle ore 18:00. \nLa mostra sarà visitabile presso il Museo del ferro di San Bartolomeo (in via del Manestro 107 – Brescia) dal 18 Aprile al 2 Giugno 2026 ogni Sabato e Domenica dalle 14:00 alle 19:00 e 1 e 2 Giugno dalle 14:00 alle 19:00. \n 
URL:https://www.aici.it/event/i-colori-di-giambattista-pruzzo-mostra-fotografica-al-museo-del-ferro-17-aprile/
END:VEVENT
BEGIN:VEVENT
DTSTART;TZID=Europe/Rome:20260417T180000
DTEND;TZID=Europe/Rome:20260417T193000
DTSTAMP:20260420T150449
CREATED:20260409T235502Z
LAST-MODIFIED:20260409T235502Z
UID:37241-1776448800-1776454200@www.aici.it
SUMMARY:Presentazione del volume di Giorgio Bigatti "Milano. Matrici e metamorfosi di una capitale industriale" - 17 aprile
DESCRIPTION:Tre edifici che rappresentano altrettanti passaggi d’epoca – la Galleria De Cristoforis (1832)\, il quartiere operaio di via Solari costruito dalla Società Umanitaria (1906) e la “piccola Montparnasse” di via Rugabella (anni Trenta) – sono il prisma attraverso il quale vengono osservate le varie fasi dello sviluppo di Milano\, dall’epoca risorgimentale a oggi: una città industriale che ha saputo adattarsi alle sfide della contemporaneità. Il racconto delle trasformazioni indotte dalla scomparsa dell’industria nel tessuto urbano tratteggia il profilo di una città chiamata oggi a reinventarsi. \nCon l’autore ne discutono Matteo Bolocan Goldstein\, Bruno Bonomo e Daniela Felisini. \nMaggiori dettagli cliccando qui. \n  \n \n 
URL:https://www.aici.it/event/presentazione-del-volume-di-giorgio-bigatti-milano-matrici-e-metamorfosi-di-una-capitale-industriale-17-aprile/
END:VEVENT
BEGIN:VEVENT
DTSTART;TZID=Europe/Rome:20260417T180000
DTEND;TZID=Europe/Rome:20260417T193000
DTSTAMP:20260420T150449
CREATED:20260417T095106Z
LAST-MODIFIED:20260417T095106Z
UID:37302-1776448800-1776454200@www.aici.it
SUMMARY:80 anni di Fiamma\, dal movimento sociale italiano a Fratelli d'Italia - 17 aprile
DESCRIPTION:80 ANNI DI FIAMMA – DAL MOVIMENTO SOCIALE ITALIANO A FRATELLI D’ITALIA \n  \nFondazione Tatarella ricorda a Bari la storia della destra italiana \nIn occasione dell’80° anniversario dalla nascita del Movimento Sociale italiano la Fondazione Tatarella promuove a Bari il convegno “80 di Fiamma. Dal Movimento sociale italiano a Fratelli d’Italia”\, in programma venerdì 17 aprile 2026 alle ore 18.00 presso l’Hotel Excelsior (Via Giulio Petroni n.15) \nL’evento\, promosso in collaborazione con la Fondazione Alleanza Nazionale\, intende ripercorrere il percorso e l’evoluzione della destra italiana: dalla fondazione del Msi\, alla svolta di Fiuggi con la nascita di An\, fino alla destra contemporanea guidata da Giorgia Meloni.  \nA distanza di ottant’anni\, quel simbolo continua ad essere presente sulle schede elettorali. Ripercorrere questa storia\, senza nostalgia\, ma con rispetto e consapevolezza\, significa confrontarsi con la complessità di stagioni difficili e offrire strumenti di riflessione utili per il presente e per il futuro. \nIl convegno sarà introdotto da Fabrizio Tatarella\, Vicepresidente della Fondazione Tatarella e Antonio Giordano\, deputato di Fratelli d’Italia\, Vicepresidente della Fondazione Alleanza Nazionale e Segretario Generale ECR. \nInterverranno Sergio Rastrelli\, Senatore di Fratelli d’Italia e figlio di Antonio Rastrelli\, storica figura del Msi in Campania\, Adriana Poli Bortone\, Sindaco di Lecce e già Ministro del Msi/An nel primo governo Berlusconi\, Isabella Rauti\, Sottosegretario di Stato alla difesa\, Senatore di Fratelli d’Italia e Presidente del “Centro Studi Pino Rauti”\, figlia dello storico segretario del Msi\, il parlamentare europeo Nicola Procaccini\, Co-Presidente Gruppo Conservatori (ECR) al Parlamento europeo e Nello Musumeci\, Ministro per la protezione civile e le politiche del mare dell’Italia\, storico esponente del Msi e Alleanza Nazionale\, e attuale senatore di Fratelli d’Italia. \n 
URL:https://www.aici.it/event/80-anni-di-fiamma-dal-movimento-sociale-italiano-a-fratelli-ditalia-17-aprile/
END:VEVENT
BEGIN:VEVENT
DTSTART;TZID=Europe/Rome:20260420T110000
DTEND;TZID=Europe/Rome:20260420T160000
DTSTAMP:20260420T150449
CREATED:20260409T235358Z
LAST-MODIFIED:20260409T235358Z
UID:37239-1776682800-1776700800@www.aici.it
SUMMARY:20 aprile 2026\, Firenze Polo delle Scienze Sociali | "L’Europa ha un futuro digitale?"
DESCRIPTION:20 aprile 2026 L’Europa ha un futuro digitale?\nFirenze Polo delle Scienze Sociali – piazza Ugo di Toscana 5 Edificio D15 aula 004 \nIl convegno è stato realizzato grazie al contributo della Direzione Generale Educazione\, Ricerca e Istituti culturali”\nCoffee Welcome \nOre 11\,00 – Saluti istituzionali \n\nAndrea Lippi – Presidente della Scuola di Scienze Politiche “Cesare Alfieri”\nAlessandro Chiaramonte – Direttore del Dipartimento di scienze politiche e sociali\nValdo Spini – Presidente della Fondazione Circolo Rosselli\n\nOre 11\,30 Prima sessione \nGovernare l’intelligenza artificiale \n\nAndrea Simoncini – Professore ordinario di Diritto Costituzionale – Università di Firenze\n\nSalvaguardare il pluralismo dei media in Europa \n\nElda Brogi – Direttrice del Centro per il Pluralismo nei Media dell’Istituto Universitario Europeo\n\nLight Lunch \nOre 14.30 Seconda sessione \nCome declinare il Media Freedom Act in Italia \n\nStefano Balassone – Presidente Articolo Quinto\n\nIl futuro dell’informazione \n\nCarlo Sorrentino – Professore Ordinario di Sociologia dei processi culturali – Università di Firenze\n\nOre 16\,00 Tavola Rotonda \nPresiede Valdo Spini\, Presidente della Fondazione Circolo Fratelli Rosselli \nPartecipano \n\nOnorevole Simona Bonafè\nProfessore Innocenzo Cipolletta (Presidente AIE – Associazione Italiana Editori)\nSenatore Maurizio Gasparri\nMaja Cappello (Osservatorio audiovisivo europeo – Consiglio d’Europa)\n\n 
URL:https://www.aici.it/event/20-aprile-2026-firenze-polo-delle-scienze-sociali-leuropa-ha-un-futuro-digitale/
END:VEVENT
BEGIN:VEVENT
DTSTART;TZID=Europe/Rome:20260421T190000
DTEND;TZID=Europe/Rome:20260421T200000
DTSTAMP:20260420T150449
CREATED:20260417T095204Z
LAST-MODIFIED:20260417T095204Z
UID:37305-1776798000-1776801600@www.aici.it
SUMMARY:21 aprile ore 19 - celebriamo insieme i 110 anni della nascita di Giacomo Mancini
DESCRIPTION:21 aprile ore 19.00 – per i 110 anni dalla nascita. Buon compleanno Leone. Un gesto semplice. Una comunità \nil 21 aprile ricorrono i 110 anni dalla nascita di Giacomo Mancini.
URL:https://www.aici.it/event/21-aprile-ore-19-celebriamo-insieme-i-110-anni-della-nascita-di-giacomo-mancini/
END:VEVENT
BEGIN:VEVENT
DTSTART;TZID=Europe/Rome:20260421T190000
DTEND;TZID=Europe/Rome:20260421T200000
DTSTAMP:20260420T150449
CREATED:20260417T095220Z
LAST-MODIFIED:20260417T095220Z
UID:37306-1776798000-1776801600@www.aici.it
SUMMARY:Progettare l'Italia moderna. Dall'intuizione all'impresa - 21 aprile 2026
DESCRIPTION:Progettare l’Italia moderna. Dall’intuizione all’impresa\n21 aprile 2026 ore 19.20 \nSede de Il Giorno \nCorso Buenos Aires\, 54 – Milano \nIn occasione del 70° anniversario de Il Giorno e della Milano Design Week\, il Presidente dell’Associazione Archivio Storico Olivetti Gaetano di Tondo partecipa all’incontro Progettare l’Italia moderna. Dall’intuizione all’impresa\, insieme ad Antonio Calabrò\, Presidente della Fondazione Assolombarda. \n 
URL:https://www.aici.it/event/progettare-litalia-moderna-dallintuizione-allimpresa-21-aprile-2026/
END:VEVENT
BEGIN:VEVENT
DTSTART;TZID=Europe/Rome:20260422T123000
DTEND;TZID=Europe/Rome:20260422T170000
DTSTAMP:20260420T150449
CREATED:20260420T094134Z
LAST-MODIFIED:20260420T094134Z
UID:37317-1776861000-1776877200@www.aici.it
SUMMARY:Lezione aperta sul M° Daniele Maffeis - Università Cattolica di Milano\, 22 aprile 2026
DESCRIPTION:Mercoledì 22 aprile 2026 alle ore 12:45 nell’aula G.020 dell’Università Cattolica di Milano si terrà una lezione aperta nel corso di Storia della Musica dedicata all’archivio di Daniele Maffeis (1901-1966). \nLa memoria di un musicista del XX secolo viene conservata e rivive attraverso la conservazione\, lo studio e la valorizzazione di un patrimonio che non si compone solo di preziosi autografi musicali ma anche delle testimonianze della vita e del carattere dell’uomo\, oltre che dell’artista. \nInterverranno la prof.ssa Rosa Cafiero\, Flora Santorelli\, Matteo Marni e Rossana Maffeis. \nLa lezione si inserisce come secondo appuntamento di un trittico inaugurato il 28 settembre 2025 presso la Biblioteca Statale di Cremona e si concluderà il 4 ottobre 2026 con la visita del Fondo Daniele Maffeis presso la Biblioteca Civica Angelo Mai di Bergamo.
URL:https://www.aici.it/event/lezione-aperta-sul-m-daniele-maffeis-universita-cattolica-di-milano-22-aprile-2026/
END:VEVENT
BEGIN:VEVENT
DTSTART;TZID=Europe/Rome:20260424T170000
DTEND;TZID=Europe/Rome:20260424T180000
DTSTAMP:20260420T150449
CREATED:20260409T235425Z
LAST-MODIFIED:20260409T235425Z
UID:37238-1777050000-1777053600@www.aici.it
SUMMARY:24 aprile 2026\, ore 17 a Pistoia | “Quaderno del Circolo Rosselli n.3-4/2025”
DESCRIPTION:24 aprile 2026 PISTOIA\nAlle ore 17 a Pistoia\, nel quadro di PISTOIA CAPITALE ITALIANA DEL LIBRO 2026\, presso la libreria Feltrinelli di Pistoia Via degli Orafi\, 31/33\, la presentazione di 2 testi: “Quaderno del Circolo Rosselli n.3-4/2025” con focus su L’inventario dell’archivio della Federazione laburista e dell’ Inventario dell’archivio della Fondazione Circolo Rosselli 1971-2021 a cura di Chiara Chini\, ambedue editi da Pacini\, Pisa. \nIntervengono: Vannino Chiti\, Alessandra Nardini\, Valdo Spini. Modera Giacomo Bini de La Nazione. \n 
URL:https://www.aici.it/event/24-aprile-2026-ore-17-a-pistoia-quaderno-del-circolo-rosselli-n-3-4-2025/
END:VEVENT
BEGIN:VEVENT
DTSTART;TZID=Europe/Rome:20260430T090000
DTEND;TZID=Europe/Rome:20260430T133000
DTSTAMP:20260420T150449
CREATED:20260409T235440Z
LAST-MODIFIED:20260409T235440Z
UID:37240-1777539600-1777555800@www.aici.it
SUMMARY:30 aprile 2026 ROMA | 1926-2026 il “Quarto Stato di Nenni e Rosselli”
DESCRIPTION:30 aprile 2026 ROMA\ndalle ore 9 alle 13.30 presso la Camera dei Deputati\, Sala del Refettorio Palazzo San Macuto\, via del Seminario 76\, Roma \nLa Fondazione Circolo Rosselli e la Fondazione Pietro Nenni vi invitano al convegno \n1926-2026 \nil “Quarto Stato di Nenni e Rosselli” \n 
URL:https://www.aici.it/event/30-aprile-2026-roma-1926-2026-il-quarto-stato-di-nenni-e-rosselli/
END:VEVENT
END:VCALENDAR