BEGIN:VCALENDAR
VERSION:2.0
PRODID:-//AICI - ECPv6.9.0//NONSGML v1.0//EN
CALSCALE:GREGORIAN
METHOD:PUBLISH
X-WR-CALNAME:AICI
X-ORIGINAL-URL:https://www.aici.it
X-WR-CALDESC:Eventi per AICI
REFRESH-INTERVAL;VALUE=DURATION:PT1H
X-Robots-Tag:noindex
X-PUBLISHED-TTL:PT1H
BEGIN:VTIMEZONE
TZID:Europe/Rome
BEGIN:DAYLIGHT
TZOFFSETFROM:+0100
TZOFFSETTO:+0200
TZNAME:CEST
DTSTART:20210328T010000
END:DAYLIGHT
BEGIN:STANDARD
TZOFFSETFROM:+0200
TZOFFSETTO:+0100
TZNAME:CET
DTSTART:20211031T010000
END:STANDARD
BEGIN:DAYLIGHT
TZOFFSETFROM:+0100
TZOFFSETTO:+0200
TZNAME:CEST
DTSTART:20220327T010000
END:DAYLIGHT
BEGIN:STANDARD
TZOFFSETFROM:+0200
TZOFFSETTO:+0100
TZNAME:CET
DTSTART:20221030T010000
END:STANDARD
END:VTIMEZONE
BEGIN:VEVENT
DTSTART;TZID=Europe/Rome:20220322T173000
DTEND;TZID=Europe/Rome:20220322T200000
DTSTAMP:20260422T110623
CREATED:20220317T190344Z
LAST-MODIFIED:20220317T190344Z
UID:27935-1647970200-1647979200@www.aici.it
SUMMARY:'Sul colle più alto - L'elezione del Presidente della Repubblica dalle origini ad oggi' di Valdo Spini
DESCRIPTION:Presentazione ‘Sul colle più alto – L’elezione del Presidente della Repubblica dalle origini ad oggi‘ di Valdo Spini (Solferino editore\, 2022). \n22 marzo\, ore 17.30\, Fondazione Banco di Napoli – Via dei Tribunali\, 213 \nSarà presente l’autore; di seguito il programma: \n 
URL:https://www.aici.it/event/sul-colle-piu-alto-lelezione-del-presidente-della-repubblica-dalle-origini-ad-oggi-di-valdo-spini/
LOCATION:Fondazione Banco di Napoli\, Via dei Tribunali 213\, Napoli\, 80139\, Italia
ATTACH;FMTTYPE=image/png:https://www.aici.it/wp-content/uploads/2022/03/presentazione-libro-On.-Valdo-Spini-1-min-1.png
END:VEVENT
BEGIN:VEVENT
DTSTART;TZID=Europe/Rome:20210330T183000
DTEND;TZID=Europe/Rome:20210330T200000
DTSTAMP:20260422T110623
CREATED:20210329T174439Z
LAST-MODIFIED:20210329T174439Z
UID:25764-1617129000-1617134400@www.aici.it
SUMMARY:Presentazione digitale di Sarabanda 2021\, il nuovo programma di attività della Fondazione Giangiacomo Feltrinelli
DESCRIPTION:Carlo Feltrinelli ti invita alla presentazione digitale di SARABANDA 2021\, il nuovo programma di attività della Fondazione Giangiacomo Feltrinelli \n  \n30 marzo\, ore 18.30 in live streaming su fondazionefeltrinelli.it \n  \nSarabanda 2021 è il nome della prossima Stagione della Fondazione Feltrinelli\, la prima dell’era pandemica: un percorso di incontri e di ricerche per mobilitare energie e aspirazioni che sappiano ridisegnare la società che ci attende. Fuori dalle nostre case\, fuori dai nostri uffici\, fuori dalle nostre aule ci sono idee da rimettere in circolo e piazze\, fisiche e metaforiche\, da riconquistare. Sarabanda 2021 è il nostro contributo ad un futuro non solo più verde e meno diseguale ma anche più altruista\, generoso\, ambizioso\, visionario. Tutte le energie che fanno Sarabanda saranno annunciate dal Presidente Carlo Feltrinelli e da moltissimi ospiti il prossimo 30 marzo a partire dalle 18.30.
URL:https://www.aici.it/event/presentazione-digitale-di-sarabanda-2021-il-nuovo-programma-di-attivita-della-fondazione-giangiacomo-feltrinelli-2/
ATTACH;FMTTYPE=image/png:https://www.aici.it/wp-content/uploads/2021/03/Schermata-2021-03-25-alle-16.19.44-min-1.png
END:VEVENT
BEGIN:VEVENT
DTSTART;TZID=Europe/Rome:20210330T183000
DTEND;TZID=Europe/Rome:20210330T200000
DTSTAMP:20260422T110623
CREATED:20210329T173422Z
LAST-MODIFIED:20210329T173422Z
UID:25746-1617129000-1617134400@www.aici.it
SUMMARY:Presentazione digitale di Sarabanda 2021\, il nuovo programma di attività della Fondazione Giangiacomo Feltrinelli
DESCRIPTION:Carlo Feltrinelli ti invita alla presentazione digitale di SARABANDA 2021\, il nuovo programma di attività della Fondazione Giangiacomo Feltrinelli \n  \n30 marzo\, ore 18.30 in live streaming su fondazionefeltrinelli.it \n  \nSarabanda 2021 è il nome della prossima Stagione della Fondazione Feltrinelli\, la prima dell’era pandemica: un percorso di incontri e di ricerche per mobilitare energie e aspirazioni che sappiano ridisegnare la società che ci attende. Fuori dalle nostre case\, fuori dai nostri uffici\, fuori dalle nostre aule ci sono idee da rimettere in circolo e piazze\, fisiche e metaforiche\, da riconquistare. Sarabanda 2021 è il nostro contributo ad un futuro non solo più verde e meno diseguale ma anche più altruista\, generoso\, ambizioso\, visionario. Tutte le energie che fanno Sarabanda saranno annunciate dal Presidente Carlo Feltrinelli e da moltissimi ospiti il prossimo 30 marzo a partire dalle 18.30.
URL:https://www.aici.it/event/presentazione-digitale-di-sarabanda-2021-il-nuovo-programma-di-attivita-della-fondazione-giangiacomo-feltrinelli/
ATTACH;FMTTYPE=image/png:https://www.aici.it/wp-content/uploads/2021/03/Schermata-2021-03-25-alle-16.19.44-min-1.png
END:VEVENT
END:VCALENDAR