BEGIN:VCALENDAR
VERSION:2.0
PRODID:-//AICI - ECPv6.9.0//NONSGML v1.0//EN
CALSCALE:GREGORIAN
METHOD:PUBLISH
X-WR-CALNAME:AICI
X-ORIGINAL-URL:https://www.aici.it
X-WR-CALDESC:Eventi per AICI
REFRESH-INTERVAL;VALUE=DURATION:PT1H
X-Robots-Tag:noindex
X-PUBLISHED-TTL:PT1H
BEGIN:VTIMEZONE
TZID:Europe/Rome
BEGIN:DAYLIGHT
TZOFFSETFROM:+0100
TZOFFSETTO:+0200
TZNAME:CEST
DTSTART:20210328T010000
END:DAYLIGHT
BEGIN:STANDARD
TZOFFSETFROM:+0200
TZOFFSETTO:+0100
TZNAME:CET
DTSTART:20211031T010000
END:STANDARD
BEGIN:DAYLIGHT
TZOFFSETFROM:+0100
TZOFFSETTO:+0200
TZNAME:CEST
DTSTART:20220327T010000
END:DAYLIGHT
BEGIN:STANDARD
TZOFFSETFROM:+0200
TZOFFSETTO:+0100
TZNAME:CET
DTSTART:20221030T010000
END:STANDARD
BEGIN:DAYLIGHT
TZOFFSETFROM:+0100
TZOFFSETTO:+0200
TZNAME:CEST
DTSTART:20230326T010000
END:DAYLIGHT
BEGIN:STANDARD
TZOFFSETFROM:+0200
TZOFFSETTO:+0100
TZNAME:CET
DTSTART:20231029T010000
END:STANDARD
END:VTIMEZONE
BEGIN:VEVENT
DTSTART;TZID=Europe/Rome:20230429T170000
DTEND;TZID=Europe/Rome:20230429T200000
DTSTAMP:20260422T101145
CREATED:20230427T092652Z
LAST-MODIFIED:20230427T092652Z
UID:31124-1682787600-1682798400@www.aici.it
SUMMARY:29 aprile - Presentazione del libro sulla Famiglia Amendola
DESCRIPTION:Appuntamento sabato 29 aprile alle 17 in via Tollegno 52 a Torino\nGianni Cerchia e Ottavia Dal Maso dialogano con l’autore Richard Bosworth\, Storico dell’Università di Oxford \nSabato 29 aprile 2023 alle ore 17 la sede della Fondazione Amendola (via Tollegno 52\, Torino) ospiterà la presentazione del volume “Politics\, Murder and Love in an Italian Family. The Amendolas in the Age of Totalitarianisms” di Richard Bosworth (Cambridge University Press\, 2023). \nDialogano con l’autore: \n\nGianni Cerchia\, Direttore scientifico Fondazione Giorgio Amendola\nOttavia Dal Maso\, PhD Student Università di Genova\n\nModera: Domenico Cerabona\, Direttore Fondazione Giorgio Amendola \nIL LIBRO (da www.cambridge.org) \nCosa significava vivere con il fascismo\, il comunismo e il totalitarismo nell’Italia moderna? E cosa possiamo imparare dalle esperienze di un padre liberaldemocratico martirizzato e di suo figlio comunista? Attraverso il prisma di un’unica\, eccezionale famiglia\, gli Amendola\, R.J.B. Bosworth svela il cuore della politica italiana del Novecento. Giovanni e Giorgio Amendola\, padre e figlio\, erano entrambi convinti antifascisti. Hanno avuto entrambi un ruolo importante nella storia d’Italia. E hanno avuto vite private ricche ma contrastanti. Hanno sposato tutti e due una donna straniera e affermata: Giovanni\, una donna di una illustre famiglia intellettuale tedesco-russa; Giorgio\, una ragazza della classe operaia parigina\, che per lui incarnava la Rivoluzione. Questo studio biografico vivido e coinvolgente esplora gli alti e bassi di una famiglia che è stata al centro della politica italiana per diverse generazioni. Tracciando il complesso rapporto tra la politica antifascista e la vita privata dei singoli e della famiglia. “Politica\, omicidio e amore in una famiglia italiana” offre un ritratto profondo di un secolo di vita italiana.
URL:https://www.aici.it/event/29-aprile-presentazione-del-libro-sulla-famiglia-amendola/
END:VEVENT
BEGIN:VEVENT
DTSTART;TZID=Europe/Rome:20230428T180000
DTEND;TZID=Europe/Rome:20230428T200000
DTSTAMP:20260422T101145
CREATED:20230427T092903Z
LAST-MODIFIED:20230427T092903Z
UID:31122-1682704800-1682712000@www.aici.it
SUMMARY:Riformare i vinti Storia e critica delle riforme liberal-capitaliste - 28 aprile
DESCRIPTION:Venerdì 28 aprile\, ore 18.00 Sala Gioco\, Circolo dei Lettori Via Bogino 9\, Torino  \n  \nEvento ospite al Circolo dei Lettori di Torino a cura di Edizioni Guerini e Fondazione Istituto piemontese A. Gramsci \nPossono le riforme essere intese come uno strumento di determinati interessi di classe? Giampaolo Conte\, docente di Storia economica e Storia del capitalismo presso l’Università Roma Tre\, affronta il delicato tema delle riforme liberal-capitaliste nel libro Riformare i vinti Storia e critica delle riforme liberal-capitaliste (Edizioni Guerini). \nDiscutono con l’autore: \nCamillo Boano\, Politecnico di Torino\nErnesto C. Sferrazza Papa\, Università degli Studi di Torino \nModera: Dunia Astrologo\, Fondazione Istituto piemontese A. Gramsci \nIngresso libero sino ad esaurimento posti. Prenota qui
URL:https://www.aici.it/event/riformare-i-vinti-storia-e-critica-delle-riforme-liberal-capitaliste-28-aprile/
END:VEVENT
BEGIN:VEVENT
DTSTART;TZID=Europe/Rome:20230419T183000
DTEND;TZID=Europe/Rome:20230419T200000
DTSTAMP:20260422T101145
CREATED:20230418T092428Z
LAST-MODIFIED:20230427T092933Z
UID:31120-1681929000-1681934400@www.aici.it
SUMMARY:Speriamo che sia femmina - Mercoledì 19 aprile
DESCRIPTION:Mercoledì 19 aprile – ore 18:30 | Polo del ‘900\, Sala Didattica\, Via del Carmine\, 14\, Torino \n  \nPresentazione del libro Speriamo che sia femmina: l’equilibrio fra i generi nelle società quotate e a controllo pubblico nell’esperienza italiana e comparata a cura di Mia Callegari\, Eva R. Desana e Marcella Sarale\, edito dall’Università degli Studi di Torino\, \n  \nA dieci anni dall’entrata in vigore della legge Golfo-Mosca quest’opera prova a tracciare un primo bilancio degli effetti che tale provvedimento ha avuto sui consigli di amministrazione delle società con titoli quotati su un mercato regolamentato analizzando\, in prospettiva giuridica oltre che sociologica ed economica\, la normativa interna\, nelle sue evoluzioni\, come azione positiva correttiva alla diseguaglianza di genere negli organi amministrativi e di controllo delle società italiane. La chiave di lettura è arricchita attraverso un’approfondita disamina delle scelte\, talora eterogenee\, di altri ordinamenti e il confronto con i modelli di soft law\, nonché attraverso una riflessione di ampio respiro sugli approcci unionali\, culminati nella Proposta di Direttiva COM (2012) 614 final\, recentemente approvata (Direttiva UE “Women on Boards” n. 2022/2381) e all’analisi della quale sarà dedicata l’edizione inglese\, di prossima pubblicazione. \n  \nNe discutono insieme alle curatrici: \nAntonella Parigi\, Presidente dell’Associazione “Torino Città per le donne”\nLaura Onofri\, Coordinatrice del Tavolo della Regione Piemonte “Più donne nei Cda e nelle posizioni apicali”\nMaurizio Irrera\, Professore Ordinario di Diritto Commerciale\, UNITO \nModera: Gabriella Ratti\, Presidente Sezione Imprese Tribunale di Torino \n  \nIngresso libero
URL:https://www.aici.it/event/speriamo-che-sia-femmina-mercoledi-19-aprile/
END:VEVENT
BEGIN:VEVENT
DTSTART;TZID=Europe/Rome:20230302T180000
DTEND;TZID=Europe/Rome:20230302T200000
DTSTAMP:20260422T101145
CREATED:20230222T113732Z
LAST-MODIFIED:20230222T113732Z
UID:30534-1677780000-1677787200@www.aici.it
SUMMARY:Terza edizione Premio “Giuseppe Sormani” per un’opera su Pier Paolo Pasolini - Cerimonia di premiazione
DESCRIPTION:Giovedì 2 marzo 2023 | ore 18:00 | Sala ‘900\, Polo del ‘900 | Via del Carmine 14\, Torino \nCerimonia di premiazione della Terza edizione del Premio Internazionale “Giuseppe Sormani” per un’opera su Pier Paolo Pasolini\, promosso dalla Fondazione Istituto piemontese Antonio Gramsci e istituito grazie al lascito testamentario disposto per la Fondazione da Giuseppe Sormani (1903-1994).\nIl premio è stato assegnato con voto unanime della Giuria\, ex aequo\, alle opere di Paolo Desogus\, autore di “Laboratorio Pasolini. Teoria del segno e del cinema” (Quodlibet 2018)\, e Hervé Joubert-Laurencin per il volume “Le Grand Chant Pasolini Poète et cineaste” (Macula 2022).\nIn aggiunta\, la Giuria ha ritenuto di riservare una menzione speciale alla memoria di Gian Carlo Ferretti\, recentemente scomparso\, per il suo volume “Pasolini personaggio. Un grande autore tra scandalo\, persecuzione e successo” (Interlinea 2022). \n\n\nIn apertura della serata verrà proiettata un’intervista a Furio Colombo. \n\nSaluti di:\nAlberto Sinigaglia\, Presidente del Polo del ‘900\nGianguido Passoni\, Presidente della Fondazione Istituto piemontese Antonio Gramsci\n\nCoordina:\nGiovanna Ioli\, presidente della giuriaIngresso libero\n 
URL:https://www.aici.it/event/terza-edizione-premio-giuseppe-sormani-per-unopera-su-pier-paolo-pasolini-cerimonia-di-premiazione/
END:VEVENT
BEGIN:VEVENT
DTSTART;TZID=Europe/Rome:20230224T173000
DTEND;TZID=Europe/Rome:20230224T193000
DTSTAMP:20260422T101145
CREATED:20230222T113431Z
LAST-MODIFIED:20230222T113945Z
UID:30532-1677259800-1677267000@www.aici.it
SUMMARY:Quale tribunale per il crimine di aggressione in e contro l'Ucraina?
DESCRIPTION:Quale tribunale per il crimine di aggressione in e contro l’Ucraina? \nVenerdì 24 Febbraio 2023 ore 17:30 – 19:30 \n\n\n\nIntroduce \nBARBARA DONAT-CATTIN\, Consigliere Fondazione Carlo Donat-Cattin \n\n\n\n\nIntervengono \nFLAVIA LATTANZI\, Già giudice Ad Litem presso i Tribunali Penali Internazionali per il Ruanda e per la ex Jugoslavia; Università Roma Tre / LUISS Guido Carli \nENRICO MILANO\, Consigliere Giuridico della Missione Permanente dell’Italia presso l’ONU; Università di Verona \n\n\nCHANTAL MELONI\, European Centre for Constitutional and Human Rights; Commissione elaborazione progetto Codice dei Crimini internazionali – Ministero della Giustizia; Università di Milano \nANNALISA CIAMPI\, Università di Verona \nModera \nDAVID DONAT-CATTIN\, Segretario-Generale uscente\, Parliamentarians for Global Action; New York University / Università di Verona \n 
URL:https://www.aici.it/event/quale-tribunale-per-il-crimine-di-aggressione-in-e-contro-lucraina-24-febbraio/
END:VEVENT
BEGIN:VEVENT
DTSTART;TZID=Europe/Rome:20230224T100000
DTEND;TZID=Europe/Rome:20230224T130000
DTSTAMP:20260422T101145
CREATED:20230222T113853Z
LAST-MODIFIED:20230222T113948Z
UID:30536-1677232800-1677243600@www.aici.it
SUMMARY:Giacomo Matteotti\, la biografia e l’analisi politica
DESCRIPTION:Giacomo Matteotti\, la biografia e l’analisi politica.  \nAll’Università di Bari la presentazione dell’ultimo libro di Maurizio Degl’Innocenti a cura della Fondazione Di Vagno.  \nVenerdì 24 febbraio 2023\, ore 10.00 – Aula Vincenzo Starace\, Dip. di Scienze Politiche  – Palazzo del Prete – Piazza Cesare Battisti\, Bari \n  \nSi avvicina il centenario della morte di Giacomo Matteotti\, il martire antifascista rapito e ucciso da una squadraccia il 10 giugno del 1924\, e la Fondazione “Giuseppe Di Vagno (1889-1921)” – insieme con la Fondazione di studi storici “Filippo Turati” e l’Università degli Studi di Bari – lo ricorda presentando il libro di Maurizio Degl’Innocenti\, edito da Franco Angeli\, “Giacomo Matteotti e il socialismo riformista”. \nL’incontro si terrà venerdì 24 febbraio 2023 alle 10 nell’Aula Vincenzo Starace del Dipartimento di Scienze politiche dell’Università degli Studi di Bari. Oltre all’autore interverranno Giuseppe Moro direttore Dipartimento Scienze Politiche\, il presidente della Fondazione “Giacomo Matteotti” Alberto Aghemo e Patricia Chiantera Stutte docente di Storia delle dottrine politiche all’Università di Bari. \nUna rilettura del politico\, figura di spessore nazionale\, segretario del Partito Socialista Unitario\, impegnato nella lotta al fascismo e critico inflessibile del comunismo. Il saggio si muove su due binari che corrono paralleli: da una parte la biografia di Giacomo Matteotti\, e dall’altra l’analisi del gruppo politico di appartenenza avvalendosi delle categorie interpretative di socialismo di vicinanza o territoriale e di democrazia orizzontale. Nel testo si sottolinea la forza delle periferie\, lungo le quali si riscrivono le gerarchie sociali e politiche\, e l’idea di politica come pedagogia individuale e collettiva per una cittadinanza diffusa e inclusiva. Il saggio offre anche motivi di riflessione su problemi della società italiana ed europea di lungo periodo\, fino all’attualità\, a testimonianza della lungimiranza di una intera generazione politica. \nMaurizio Degl’Innocenti\, presidente della Fondazione di studi storici Turati\, è docente di Storia contemporanea all’Università degli studi di Siena. Ha pubblicato più di un centinaio di lavori. Dirige tre collane editoriali per i tipi Angeli (Milano)\, Lacaita (Manduria) e partecipa al comitato direttivo di collana per i tipi Arnoldo Mondadori. Ha collaborato con numerose riviste italiane e straniere. È co-direttore della rivista di storia contemporanea “Storiaefuturo”. Nel 1994 è stato nominato Grande Ufficiale della Repubblica\, per meriti culturali. \n 
URL:https://www.aici.it/event/giacomo-matteotti-la-biografia-e-lanalisi-politica-venerdi-24-febbraio/
END:VEVENT
BEGIN:VEVENT
DTSTART;TZID=Europe/Rome:20230214T160000
DTEND;TZID=Europe/Rome:20230214T200000
DTSTAMP:20260422T101145
CREATED:20230222T113759Z
LAST-MODIFIED:20230222T113953Z
UID:30533-1676390400-1676404800@www.aici.it
SUMMARY:Cattolici e violenza
DESCRIPTION:L’Isacem promuove con l’Istituto Luigi Sturzo il primo di due seminari su Cattolici e violenza\, in occasione dell’uscita dei volumi La fede armata. Cattolici e violenza politica nel Novecento (Il Mulino\, 2022) di Lucia Ceci e Il soffio dello Spirito. Cattolici nelle Resistenze europee (Viella\, 2022) di Giorgio Vecchio. \nIl seminario\, di cui si allega il programma\, si terrà il 16 febbraio alle ore 16.00 presso la sede dell’Istituto Sturzo\, a Roma in via delle Coppelle 35\, e sarà trasmesso in diretta streaming sui suoi canali social. \nOltre agli autori\, parteciperanno Marialuisa Lucia Sergio (Università Roma Tre) e Vittorio De Marco (Università del Salento)\, con l’introduzione di Nicola Antonetti (presidente dell’Istituto Sturzo) e le conclusioni di Marta Margotti (presidente del Consiglio scientifico dell’Isacem). \n 
URL:https://www.aici.it/event/cattolici-e-violenza-16-febbraio-2023/
END:VEVENT
BEGIN:VEVENT
DTSTART;TZID=Europe/Rome:20230208T110000
DTEND;TZID=Europe/Rome:20230208T140000
DTSTAMP:20260422T101145
CREATED:20230222T113830Z
LAST-MODIFIED:20230222T113956Z
UID:30535-1675854000-1675864800@www.aici.it
SUMMARY:“Pinuccio Tatarella\, padre della destra di governo e precursore del centrodestra”
DESCRIPTION:COMUNICATO STAMPA  \n“Pinuccio Tatarella\, padre della destra di governo e precursore del centrodestra” \nIl ricordo di Tatarella in Senato con il Presidente La Russa\, Mantovano\, Sangiuliano\, Violante \nMercoledì 8 febbraio\, alle ore 11.30 nella Sala Zuccari di Palazzo Giustiniani\, sede della presidenza del Senato\, la Fondazione Tatarella\, con il patrocinio del Senato della Repubblica\, promuove il convegno “Pinuccio Tatarella padre della destra di governo e precursore del centrodestra“. \nIntroduce Fabrizio Tatarella\, della Fondazione Tatarella\, intervengono Alfredo Mantovano\, Sottosegretario di Stato alla Presidenza del Consiglio dei ministri\, Gennaro Sangiuliano\, Ministro della Cultura\, Luciano Violante\, già Presidente della Camera dei Deputati. \nConclude il Presidente del Senato della Repubblica Ignazio La Russa. Modera l’incontro il direttore del Tg2\, Nicola Rao. \nI lavori del convegno saranno trasmessi in diretta streaming al link https://webtv.senato.it e sul canale YouTube del Senato Italiano https://www.youtube.com/user/SenatoItaliano. \n.
URL:https://www.aici.it/event/pinuccio-tatarella-padre-della-destra-di-governo-e-precursore-del-centrodestra-8-febbraio/
END:VEVENT
BEGIN:VEVENT
DTSTART;TZID=Europe/Rome:20220706T190000
DTEND;TZID=Europe/Rome:20220706T210000
DTSTAMP:20260422T101145
CREATED:20220704T100844Z
LAST-MODIFIED:20220704T100844Z
UID:29179-1657134000-1657141200@www.aici.it
SUMMARY:“Imparate dal Sud. Lezioni di sviluppo all’Italia”: il nuovo libro dell’editorialista Lino Patruno
DESCRIPTION:Mercoledì 6 luglio alle ore 19.00 alla Biblioteca della Fondazione Tatarella \nLa Fondazione Tatarella\, nell’ambito della rassegna “Incontri d’Autore” ospita Lino Patruno\, per presentare il suo ultimo libro\, “Imparate dal Sud. Lezioni di sviluppo all’Italia”\, mercoledì 6 luglio 2022\, alle ore 19.00\, presso la Biblioteca della Fondazione\, in via Piccinni\, 97. \nL’evento\, realizzato in collaborazione con Aiga (Associazione italiana Giovani Avvocati) sarà introdotto dalla giornalista Annalisa Tatarella\, vedrà la partecipazione del Presidente Autorità di Sistema Portuale Mare Adriatico di Bari\, Ugo Patroni Griffi\, e dal Presidente dell’Associazione Giovani Avvocati Bari Dorian Saracino. \nIl volume\, edito da Magenes\, non è solo una lente di ingrandimento sul Mezzogiorno\, ma anche e soprattutto uno strumento per scoprire e mettere in atto le potenzialità del Sud\, che cresce nonostante e contrariamente ai i luoghi comuni. \nL’autore\, infatti\, con grande meticolosità e competenza\, elenca e riunisce personaggi con numeri impressionanti e primati misconosciuti che hanno dato lustro al nostro territorio nel campo della tecnologia\, dello sport\, della medicina\, dell’aerospazio\, dell’informatica\, della moda. \n“Imparate dal Sud” non è\, dunque\, un semplice titolo provocatorio; è un viaggio attraverso tutto ciò \nche è riuscito a fare controcorrente. La prova di come il Sud sia una soluzione e non un problema. \nL’ingresso è libero \nBreve bio di Lino Patruno \nGiornalista professionista\, laureato in Economia con indirizzo sociologico\, è stato direttore responsabile de “La Gazzetta del Mezzogiorno” di Bari dal 1995 al 2008. Ha diretto l’emittente televisiva “Antenna Sud” per un lungo periodo. È attualmente editorialista e articolista della stessa “Gazzetta”\, collaboratore di periodici nazionali\, è opinionista per la Rai e per tv private. \nHa insegnato per 14 anni Comunicazione Pubblica ed Economia e Tecnica della Pubblicità all’Università di Bari. È stato direttore della Scuola di giornalismo dell’Ordine di Puglia e dell’Università di Bari\, per la quale insegna Scrittura giornalistica. Da tre anni conduce un Laboratorio di giornalismo per Scienze della comunicazione e ha un incarico di Storia economica del Mezzogiorno per l’Università privata Lum. \nHa tenuto centinaia di conferenze\, seminari\, laboratori soprattutto sui temi della comunicazione e dei problemi del Mezzogiorno. Ha scritto una quindicina di libri su cultura\, ambiente\, società\, economia di Puglia e Basilicata e del Sud. \nHa vinto decine di premi\, compresa la menzione speciale al Saint Vincent per la campagna a favore del premio Nobel per la pace al Salento svolta dalla “Gazzetta”.
URL:https://www.aici.it/event/imparate-dal-sud-lezioni-di-sviluppo-allitalia-il-nuovo-libro-delleditorialista-lino-patruno/
ATTACH;FMTTYPE=image/jpeg:https://www.aici.it/wp-content/uploads/2022/07/tatarellaluglio.jpg
END:VEVENT
BEGIN:VEVENT
DTSTART;TZID=Europe/Rome:20220322T173000
DTEND;TZID=Europe/Rome:20220322T200000
DTSTAMP:20260422T101145
CREATED:20220317T190344Z
LAST-MODIFIED:20220317T190344Z
UID:27935-1647970200-1647979200@www.aici.it
SUMMARY:'Sul colle più alto - L'elezione del Presidente della Repubblica dalle origini ad oggi' di Valdo Spini
DESCRIPTION:Presentazione ‘Sul colle più alto – L’elezione del Presidente della Repubblica dalle origini ad oggi‘ di Valdo Spini (Solferino editore\, 2022). \n22 marzo\, ore 17.30\, Fondazione Banco di Napoli – Via dei Tribunali\, 213 \nSarà presente l’autore; di seguito il programma: \n 
URL:https://www.aici.it/event/sul-colle-piu-alto-lelezione-del-presidente-della-repubblica-dalle-origini-ad-oggi-di-valdo-spini/
LOCATION:Fondazione Banco di Napoli\, Via dei Tribunali 213\, Napoli\, 80139\, Italia
ATTACH;FMTTYPE=image/png:https://www.aici.it/wp-content/uploads/2022/03/presentazione-libro-On.-Valdo-Spini-1-min-1.png
END:VEVENT
BEGIN:VEVENT
DTSTART;TZID=Europe/Rome:20210330T183000
DTEND;TZID=Europe/Rome:20210330T200000
DTSTAMP:20260422T101145
CREATED:20210329T174439Z
LAST-MODIFIED:20210329T174439Z
UID:25764-1617129000-1617134400@www.aici.it
SUMMARY:Presentazione digitale di Sarabanda 2021\, il nuovo programma di attività della Fondazione Giangiacomo Feltrinelli
DESCRIPTION:Carlo Feltrinelli ti invita alla presentazione digitale di SARABANDA 2021\, il nuovo programma di attività della Fondazione Giangiacomo Feltrinelli \n  \n30 marzo\, ore 18.30 in live streaming su fondazionefeltrinelli.it \n  \nSarabanda 2021 è il nome della prossima Stagione della Fondazione Feltrinelli\, la prima dell’era pandemica: un percorso di incontri e di ricerche per mobilitare energie e aspirazioni che sappiano ridisegnare la società che ci attende. Fuori dalle nostre case\, fuori dai nostri uffici\, fuori dalle nostre aule ci sono idee da rimettere in circolo e piazze\, fisiche e metaforiche\, da riconquistare. Sarabanda 2021 è il nostro contributo ad un futuro non solo più verde e meno diseguale ma anche più altruista\, generoso\, ambizioso\, visionario. Tutte le energie che fanno Sarabanda saranno annunciate dal Presidente Carlo Feltrinelli e da moltissimi ospiti il prossimo 30 marzo a partire dalle 18.30.
URL:https://www.aici.it/event/presentazione-digitale-di-sarabanda-2021-il-nuovo-programma-di-attivita-della-fondazione-giangiacomo-feltrinelli-2/
ATTACH;FMTTYPE=image/png:https://www.aici.it/wp-content/uploads/2021/03/Schermata-2021-03-25-alle-16.19.44-min-1.png
END:VEVENT
BEGIN:VEVENT
DTSTART;TZID=Europe/Rome:20210330T183000
DTEND;TZID=Europe/Rome:20210330T200000
DTSTAMP:20260422T101145
CREATED:20210329T173422Z
LAST-MODIFIED:20210329T173422Z
UID:25746-1617129000-1617134400@www.aici.it
SUMMARY:Presentazione digitale di Sarabanda 2021\, il nuovo programma di attività della Fondazione Giangiacomo Feltrinelli
DESCRIPTION:Carlo Feltrinelli ti invita alla presentazione digitale di SARABANDA 2021\, il nuovo programma di attività della Fondazione Giangiacomo Feltrinelli \n  \n30 marzo\, ore 18.30 in live streaming su fondazionefeltrinelli.it \n  \nSarabanda 2021 è il nome della prossima Stagione della Fondazione Feltrinelli\, la prima dell’era pandemica: un percorso di incontri e di ricerche per mobilitare energie e aspirazioni che sappiano ridisegnare la società che ci attende. Fuori dalle nostre case\, fuori dai nostri uffici\, fuori dalle nostre aule ci sono idee da rimettere in circolo e piazze\, fisiche e metaforiche\, da riconquistare. Sarabanda 2021 è il nostro contributo ad un futuro non solo più verde e meno diseguale ma anche più altruista\, generoso\, ambizioso\, visionario. Tutte le energie che fanno Sarabanda saranno annunciate dal Presidente Carlo Feltrinelli e da moltissimi ospiti il prossimo 30 marzo a partire dalle 18.30.
URL:https://www.aici.it/event/presentazione-digitale-di-sarabanda-2021-il-nuovo-programma-di-attivita-della-fondazione-giangiacomo-feltrinelli/
ATTACH;FMTTYPE=image/png:https://www.aici.it/wp-content/uploads/2021/03/Schermata-2021-03-25-alle-16.19.44-min-1.png
END:VEVENT
END:VCALENDAR