BEGIN:VCALENDAR
VERSION:2.0
PRODID:-//AICI - ECPv6.9.0//NONSGML v1.0//EN
CALSCALE:GREGORIAN
METHOD:PUBLISH
X-WR-CALNAME:AICI
X-ORIGINAL-URL:https://www.aici.it
X-WR-CALDESC:Eventi per AICI
REFRESH-INTERVAL;VALUE=DURATION:PT1H
X-Robots-Tag:noindex
X-PUBLISHED-TTL:PT1H
BEGIN:VTIMEZONE
TZID:Europe/Rome
BEGIN:DAYLIGHT
TZOFFSETFROM:+0100
TZOFFSETTO:+0200
TZNAME:CEST
DTSTART:20260329T010000
END:DAYLIGHT
BEGIN:STANDARD
TZOFFSETFROM:+0200
TZOFFSETTO:+0100
TZNAME:CET
DTSTART:20261025T010000
END:STANDARD
END:VTIMEZONE
BEGIN:VEVENT
DTSTART;TZID=Europe/Rome:20260204T173000
DTEND;TZID=Europe/Rome:20260204T190000
DTSTAMP:20260420T144606
CREATED:20260127T115454Z
LAST-MODIFIED:20260127T115454Z
UID:36862-1770226200-1770231600@www.aici.it
SUMMARY:Storie globali dei movimenti politici delle donne - 4 febbraio
DESCRIPTION:Mercoledì 4 febbraio 2026\, ore 17.30\, Unione femminile nazionale\, Corso di Porta Nuova 32\, Milano \nPresentazione e dibattito a partire dai due libri \nIl movimento politico delle donne. Una storia internazionale (XIX-XX secolo)\ndi Elda Guerra e Elena Musiani\, Le Monnier\, 2025 \nLa dimensione transnazionale e l’arco bisecolare costituiscono i tratti originali di questo volume dedicato alla storia del movimento politico delle donne nella pluralità delle sue declinazioni. Una visione d’insieme delle elaborazioni\, delle iniziative e delle pratiche che\, in tempi e spazi diversi\, hanno posto al centro il cambiamento delle gerarchie di sesso e di genere nella prospettiva della conquista di sempre maggiori diritti e di più ampie libertà. \nIl voto alle donne. Una storia globale\na cura di Raffaella Baritono e Vinzia Fiorino\, Il Mulino\, 2025 \nA partire da Europa\, America\, India e mondo arabo\, questo libro mette a fuoco analogie e discontinuità dei processi non lineari che hanno condotto al riconoscimento del diritto di voto alle donne. Capacità di mobilitazione da parte dei movimenti\, alleanze e strategie politiche\, permeabilità del sistema\, dinamiche interne e internazionali hanno influenzato l’acquisizione del suffragio. Un gruppo di storiche contemporaneiste fa il punto su una storia globale ancora in corso. \nCon le autrici Vinzia Fiorino\, Elda Guerra\, Elena Musiani\, intervengono \nStefania Bartoloni\, Università degli studi Roma Tre \nFiorella Imprenti\, Fondazione Aldo Aniasi \nElisabetta Vezzosi\, Università degli studi di Trieste \n\nProgrammato in diretta streaming:\nhttps://unionefemminile.it/movimento-politico-delle-donne-una-storia-globale/ \n  \nPresentazione dei libri all’Unione femminile nazionale\, corso di porta nuova 32 Milano
URL:https://www.aici.it/event/storie-globali-dei-movimenti-politici-delle-donne-4-febbraio/
END:VEVENT
BEGIN:VEVENT
DTSTART;TZID=Europe/Rome:20260206T170000
DTEND;TZID=Europe/Rome:20260206T180000
DTSTAMP:20260420T144606
CREATED:20260112T114302Z
LAST-MODIFIED:20260112T114302Z
UID:36717-1770397200-1770400800@www.aici.it
SUMMARY:Il PSI e la questione ambientale (1983-1993) - presentazione del libro di Riccardo Tamburro\, 6 febbraio
DESCRIPTION:Presso la sede delle Fondazioni Giacomo Matteotti e G.E. e V. Modigliani – ESSMOI\, in via dell’Arco del Monte 99/a in Roma\, con la Fondazione Circolo Fratelli Rosselli e la Fondazione Craxi \nvenerdì 6 febbraio 2026\, alle 17:00\nsi presenta il libro di RICCARDO TAMBURRO. IL PSI E LA QUESTIONE AMBIENTALE (1983-1993)\nRubbettino 2025 \nne discutono con l’Autore e con il pubblico\nNICOLA CARNOVALE\, GIUSEPPE CASSINI\, PAOLO MATTERA\, COSTANZA PERA e VALDO SPINI \nSarà possibile seguire l’evento in diretta sulla pagina Facebook della Fondazione Giacomo Matteotti: https://www.facebook.com/matteotti100/;\nla registrazione sarà sul canale YouTube dell’Istituto. \n  \nIl PSI e la questione ambientale (1983-1993) – presentazione del libro di Riccardo Tamburro\, 6 febbraio
URL:https://www.aici.it/event/il-psi-e-la-questione-ambientale-1983-1993-presentazione-del-libro-di-riccardo-tamburro-6-febbraio/
END:VEVENT
BEGIN:VEVENT
DTSTART;TZID=Europe/Rome:20260209T173000
DTEND;TZID=Europe/Rome:20260209T183000
DTSTAMP:20260420T144606
CREATED:20260206T164356Z
LAST-MODIFIED:20260206T164356Z
UID:36905-1770658200-1770661800@www.aici.it
SUMMARY:Pinuccio Tatarella\, tra politica e cultura\, il Ministro dell’Armonia - 9 febbraio
DESCRIPTION:27° ANNIVERSARIO PINUCCIO TATARELLA \nCERIMONIA AL PORTO DI BARI E CONVEGNO A MILANO CON D’ALEMA E LA RUSSA \nLunedi 9 febbraio alle 17.30 a Milano\, nella sala Biagi di Palazzo Lombardia\, sede della Regione Lombardia\, la Fondazione Tatarella\, in collaborazione con il Gruppo in Regione Lombardia di Fratelli d’Italia\, promuove il convegno “Pinuccio Tatarella\, tra politica e cultura\, il Ministro dell’Armonia”. \nPartecipano Fabrizio Tatarella\, Vicepresidente della Fondazione Tatarella\, Simone Orlandi\, Coordinatore di Milano di Fratelli d’Italia\, Carlo Maccari\, Coordinatore regionale di Fratelli d’Italia Lombardia\, Christian Garavaglia\, Presidente del Gruppo di Fratelli d’Italia in Regione Lombardia\, Romano La Russa\, Assessore alla Sicurezza della Regione Lombardia\, Francesca Caruso\, Assessore alla Sicurezza della Regione Lombardia\, Matteo Forte\, Consigliere Regione Lombardia. Francesco Giubilei\, Presidente della Fondazione Tatarella\, Antonio Carioti\, storico e editorialista del “Corriere della Sera”\, Alessandro Campi\, Professore di Storia contemporanea e Direttore dell’Istituto per la storia del Risorgimento italiano. Il convegno sarà concluso da un confronto tra Massimo D’Alema\, già Presidente del Consiglio dei ministri e Ignazio La Russa\, Presidente del Senato della Repubblica\, moderato da Piero Senaldi\, Condirettore di “Libero”. \n 
URL:https://www.aici.it/event/pinuccio-tatarella-tra-politica-e-cultura-il-ministro-dellarmonia-9-febbraio/
END:VEVENT
BEGIN:VEVENT
DTSTART;TZID=Europe/Rome:20260210T160000
DTEND;TZID=Europe/Rome:20260210T170000
DTSTAMP:20260420T144606
CREATED:20260206T164338Z
LAST-MODIFIED:20260206T164338Z
UID:36904-1770739200-1770742800@www.aici.it
SUMMARY:Presentazione volume "LA MUSICA COME INDAGINE. Artigianato\, poetica e stile in Luciano Chailly" - 10 febbraio
DESCRIPTION:Presentazione volume “LA MUSICA COME INDAGINE. Artigianato\, poetica e stile in Luciano Chailly” – Roma 10 febbraio ore 16 \nil prossimo 10 febbraio alle ore 16\,00 avrà luogo la presentazione del volume “LA MUSICA COME INDAGINE. Artigianato\, poetica e stile in Luciano Chailly” di Alberto Delama\, presso la Sala 1 della Biblioteca nazionale centrale di Roma.
URL:https://www.aici.it/event/presentazione-volume-la-musica-come-indagine-artigianato-poetica-e-stile-in-luciano-chailly-10-febbraio/
END:VEVENT
BEGIN:VEVENT
DTSTART;TZID=Europe/Rome:20260211T170000
DTEND;TZID=Europe/Rome:20260211T180000
DTSTAMP:20260420T144606
CREATED:20260206T160423Z
LAST-MODIFIED:20260206T160423Z
UID:36893-1770829200-1770832800@www.aici.it
SUMMARY:“Dall’Officina dei Quaderni all’Edizione nazionale degli scritti di Antonio Gramsci” – 11 febbraio
DESCRIPTION:Terza presentazione – dopo Sassari e Roma – del volume 2/2 dei Quaderni miscellanei dell’Edizione nazionale degli scritti di Antonio Gramsci. L’iniziativa promossa dal Gabinetto scientifico-letterario Vieusseux di Firenze\, dalla Fondazione Gramsci e dall’Istituto Gramsci Toscano sarà l’occasione per ricordare il magistero e gli studi di Gianni Francioni\, il suo impegno per una nuova edizione critica e integrale dei Quaderni del carcere.
URL:https://www.aici.it/event/dallofficina-dei-quaderni-alledizione-nazionale-degli-scritti-di-antonio-gramsci-11-febbraio/
END:VEVENT
BEGIN:VEVENT
DTSTART;TZID=Europe/Rome:20260218T150000
DTEND;TZID=Europe/Rome:20260218T170000
DTSTAMP:20260420T144606
CREATED:20260122T155958Z
LAST-MODIFIED:20260122T155958Z
UID:36834-1771426800-1771434000@www.aici.it
SUMMARY:"La patria nelle culture politiche del primo Novecento 1900-1925". 18 febbraio 2026
DESCRIPTION:L’Istituto Veneto di Scienze\, Lettere ed Arti invita alla prestazione del volume La patria nelle culture politiche del primo Novecento 1900-1925\, collana «Biblioteca luzzattiana. Fonti e studi» a cura di Pier Luigi Ballini. \nMercoledì 18 febbraio 2026\, ore 15:00 Palazzo Montecitorio – Sala della Regina\, Ingresso principale \nSaluti istituzionali \nLorenzo Fontana\nPresidente della Camera dei deputati \nAndrea Rinaldo\nPresidente dell’Istituto Veneto di Scienze\, Lettere ed Arti \nInterverranno \nEster Capuzzo\nSapienza Università di Roma \nLuigi Mascilli Migliorini\nUniversità Orientale di Napoli \n\n\n\n\n 
URL:https://www.aici.it/event/la-patria-nelle-culture-politiche-del-primo-novecento-1900-1925-18-febbraio-2026/
END:VEVENT
BEGIN:VEVENT
DTSTART;TZID=Europe/Rome:20260219T160000
DTEND;TZID=Europe/Rome:20260219T193000
DTSTAMP:20260420T144606
CREATED:20260127T115303Z
LAST-MODIFIED:20260127T115303Z
UID:36860-1771516800-1771529400@www.aici.it
SUMMARY:L’Atlante digitale sui centri di raccolta dei profughi giuliani e dalmati della Seconda guerra mondiale - 19 febbraio
DESCRIPTION:L’Atlante digitale sui centri di raccolta dei profughi giuliani e dalmati della Seconda guerra mondiale”\n\n19 febbraio 2026\, dalle 16 alle 19:30\nCamera dei deputati (sala del Refettorio Palazzo San Macuto\, via del Seminario 76\, Roma).\n\nVi preghiamo di notare che la partecipazione è vincolata ad alcuni aspetti organizzativi che riportiamo di seguito:\n\nè necessario compilare il seguente modulo di partecipazione per poter accedere alla sala: https://forms.gle/VwUZps2q9Ze87PDT8\nè necessario portare un documento di identità\nè richiesto di attenersi a un abbigliamento consono (obbligo di giacca per gli uomini).\n\n 
URL:https://www.aici.it/event/latlante-digitale-sui-centri-di-raccolta-dei-profughi-giuliani-e-dalmati-della-seconda-guerra-mondiale-19-febbraio/
END:VEVENT
BEGIN:VEVENT
DTSTART;TZID=Europe/Rome:20260219T173000
DTEND;TZID=Europe/Rome:20260219T193000
DTSTAMP:20260420T144606
CREATED:20260127T115517Z
LAST-MODIFIED:20260127T115517Z
UID:36861-1771522200-1771529400@www.aici.it
SUMMARY:Il suono del lavoro - Associazione culturale Vera Nocentini\, 19 febbraio 2026
DESCRIPTION:L’Associazione culturale Vera Nocentini organizza l’iniziativa Il suono del lavoro\, che si svolgerà il 19 febbraio alle 17:30 al Polo del ‘900 di Torino. \nL’evento rientra nell’ambito del World Anthropology Day 2026\, un’iniziativa nazionale che si svolge tra Torino\, Milano e Roma\, promossa dall’American Anthropological Association e organizzata in collaborazione con diversi atenei italiani\, tra cui l’Università di Torino. Per contezza\, vi lascio il riferimento al sito ufficiale: https://anthrodaymilano.formazione.unimib.it/home-page/edizione-2026/ \nIl suono del lavoro: Un’occasione per esplorare il legame fra lavoro e musica\, mettendo al centro i suoni e le memorie dell’esperienza operaia. \nDalle opere sonore emergono le macchine\, gli impianti e l’eredità antropica delle evoluzioni delle forme e dei luoghi del lavoro che il suono può rivelare. L’immersione in queste atmosfere permetterà di riflettere sul mondo dell’industria e sui suoi ritmi nascosti\, grazie al confronto tra gli sguardi antropologici\, sindacali e dei sound artists sul valore culturale e sociale del lavoro.
URL:https://www.aici.it/event/il-suono-del-lavoro-associazione-culturale-vera-nocentini-19-febbraio-2026/
END:VEVENT
END:VCALENDAR